BEGIN:VCALENDAR
VERSION:2.0
PRODID:Events Booking
BEGIN:VEVENT
UID:69e88c1257149
SUMMARY:Fit in den Frühling
DESCRIPTION:Fit in den Frühlingmit den Elixieren der Hl. Hildegard
LOCATION:Gwiggen\, Hohenweiler\, 6914 Vorarlberg\, Österreich
DTSTART:20260305T183000Z
DTEND:20260305T203000Z
DTSTAMP:20260210T081947Z
ORGANIZER;CN=Zisterzienserinnenabtei Mariastern:MAILTO:internet@kloster-mar
 iastern.at
GEO:47.569686;9.772009
X-APPLE-STRUCTURED-LOCATION;VALUE=URI;X-ADDRESS=Gwiggen\, Hohenweiler\, 691
 4 Vorarlberg\, Österreich;X-APPLE-RADIUS=72;X-TITLE=Mariastern:47.569686;
 9.772009
END:VEVENT
END:VCALENDAR